BEGIN:VCALENDAR
VERSION:2.0
PRODID:-//Buc Days - ECPv6.15.20//NONSGML v1.0//EN
CALSCALE:GREGORIAN
METHOD:PUBLISH
X-ORIGINAL-URL:https://bucdays.com
X-WR-CALDESC:Events for Buc Days
REFRESH-INTERVAL;VALUE=DURATION:PT1H
X-Robots-Tag:noindex
X-PUBLISHED-TTL:PT1H
BEGIN:VTIMEZONE
TZID:America/Chicago
BEGIN:DAYLIGHT
TZOFFSETFROM:-0600
TZOFFSETTO:-0500
TZNAME:CDT
DTSTART:20250309T080000
END:DAYLIGHT
BEGIN:STANDARD
TZOFFSETFROM:-0500
TZOFFSETTO:-0600
TZNAME:CST
DTSTART:20251102T070000
END:STANDARD
BEGIN:DAYLIGHT
TZOFFSETFROM:-0600
TZOFFSETTO:-0500
TZNAME:CDT
DTSTART:20260308T080000
END:DAYLIGHT
BEGIN:STANDARD
TZOFFSETFROM:-0500
TZOFFSETTO:-0600
TZNAME:CST
DTSTART:20261101T070000
END:STANDARD
BEGIN:DAYLIGHT
TZOFFSETFROM:-0600
TZOFFSETTO:-0500
TZNAME:CDT
DTSTART:20270314T080000
END:DAYLIGHT
BEGIN:STANDARD
TZOFFSETFROM:-0500
TZOFFSETTO:-0600
TZNAME:CST
DTSTART:20271107T070000
END:STANDARD
END:VTIMEZONE
BEGIN:VEVENT
DTSTART;VALUE=DATE:20260509
DTEND;VALUE=DATE:20260510
DTSTAMP:20260422T220059
CREATED:20251216T213651Z
LAST-MODIFIED:20260312T184129Z
UID:10000020-1778284800-1778371199@bucdays.com
SUMMARY:Livestock Quiz Bowl Competition
DESCRIPTION:The Buc Days Livestock Quiz Bowl brings Texas students together for a fast-paced\, buzzer-style competition that tests their knowledge of animal science and livestock management. Teams square off in head-to-head rounds with toss-up and bonus questions that reward quick thinking and strong agricultural skills. It’s a fun\, engaging event that builds teamwork\, leadership\, and ag literacy.
URL:https://bucdays.com/event/livestock-quiz-bowl-competition/
LOCATION:Hilliard Center Exhibit Hall\, 1901 N. Shoreline Blvd\,\, Corpus Christi\, TX\, 78401\, United States
CATEGORIES:STEAM Expo
END:VEVENT
END:VCALENDAR