BEGIN:VCALENDAR
VERSION:2.0
PRODID:-//Buc Days - ECPv6.15.20//NONSGML v1.0//EN
CALSCALE:GREGORIAN
METHOD:PUBLISH
X-ORIGINAL-URL:https://bucdays.com
X-WR-CALDESC:Events for Buc Days
REFRESH-INTERVAL;VALUE=DURATION:PT1H
X-Robots-Tag:noindex
X-PUBLISHED-TTL:PT1H
BEGIN:VTIMEZONE
TZID:America/Chicago
BEGIN:DAYLIGHT
TZOFFSETFROM:-0600
TZOFFSETTO:-0500
TZNAME:CDT
DTSTART:20250309T080000
END:DAYLIGHT
BEGIN:STANDARD
TZOFFSETFROM:-0500
TZOFFSETTO:-0600
TZNAME:CST
DTSTART:20251102T070000
END:STANDARD
BEGIN:DAYLIGHT
TZOFFSETFROM:-0600
TZOFFSETTO:-0500
TZNAME:CDT
DTSTART:20260308T080000
END:DAYLIGHT
BEGIN:STANDARD
TZOFFSETFROM:-0500
TZOFFSETTO:-0600
TZNAME:CST
DTSTART:20261101T070000
END:STANDARD
BEGIN:DAYLIGHT
TZOFFSETFROM:-0600
TZOFFSETTO:-0500
TZNAME:CDT
DTSTART:20270314T080000
END:DAYLIGHT
BEGIN:STANDARD
TZOFFSETFROM:-0500
TZOFFSETTO:-0600
TZNAME:CST
DTSTART:20271107T070000
END:STANDARD
END:VTIMEZONE
BEGIN:VEVENT
DTSTART;VALUE=DATE:20260509
DTEND;VALUE=DATE:20260510
DTSTAMP:20260420T185641
CREATED:20251216T213628Z
LAST-MODIFIED:20260312T183914Z
UID:10000022-1778284800-1778371199@bucdays.com
SUMMARY:Ag Product ID Contest
DESCRIPTION:Connecting Youth to Texas Agriculture! The 2026 Buc Days Ag Product ID Contest gives Texas students a fun\, fast-paced way to show off their ag knowledge. Competitors rotate through stations to identify agriculture products ranging from garlic to ribeye steak\, and answer quick questions about their origins\, uses\, and importance to Texas industries.
URL:https://bucdays.com/event/ag-product-id-contest/
LOCATION:Hilliard Center Exhibit Hall\, 1901 N. Shoreline Blvd\,\, Corpus Christi\, TX\, 78401\, United States
CATEGORIES:STEAM Expo
END:VEVENT
END:VCALENDAR