BEGIN:VCALENDAR
VERSION:2.0
PRODID:-//Buc Days - ECPv6.15.20//NONSGML v1.0//EN
CALSCALE:GREGORIAN
METHOD:PUBLISH
X-ORIGINAL-URL:https://bucdays.com
X-WR-CALDESC:Events for Buc Days
REFRESH-INTERVAL;VALUE=DURATION:PT1H
X-Robots-Tag:noindex
X-PUBLISHED-TTL:PT1H
BEGIN:VTIMEZONE
TZID:America/Chicago
BEGIN:DAYLIGHT
TZOFFSETFROM:-0600
TZOFFSETTO:-0500
TZNAME:CDT
DTSTART:20250309T080000
END:DAYLIGHT
BEGIN:STANDARD
TZOFFSETFROM:-0500
TZOFFSETTO:-0600
TZNAME:CST
DTSTART:20251102T070000
END:STANDARD
BEGIN:DAYLIGHT
TZOFFSETFROM:-0600
TZOFFSETTO:-0500
TZNAME:CDT
DTSTART:20260308T080000
END:DAYLIGHT
BEGIN:STANDARD
TZOFFSETFROM:-0500
TZOFFSETTO:-0600
TZNAME:CST
DTSTART:20261101T070000
END:STANDARD
BEGIN:DAYLIGHT
TZOFFSETFROM:-0600
TZOFFSETTO:-0500
TZNAME:CDT
DTSTART:20270314T080000
END:DAYLIGHT
BEGIN:STANDARD
TZOFFSETFROM:-0500
TZOFFSETTO:-0600
TZNAME:CST
DTSTART:20271107T070000
END:STANDARD
END:VTIMEZONE
BEGIN:VEVENT
DTSTART;TZID=America/Chicago:20260509T183000
DTEND;TZID=America/Chicago:20260509T190000
DTSTAMP:20260422T054159
CREATED:20260408T174555Z
LAST-MODIFIED:20260408T174555Z
UID:10000254-1778351400-1778353200@bucdays.com
SUMMARY:Corpus Christi Onami Taiko Club
DESCRIPTION:This performance will be at the Community Stage during their scheduled times listed below.
URL:https://bucdays.com/event/corpus-christi-onami-taiko-club/2026-05-09/
LOCATION:Hilliard Center Exhibit Hall\, 1901 N. Shoreline Blvd\,\, Corpus Christi\, TX\, 78401\, United States
CATEGORIES:Stages
END:VEVENT
BEGIN:VEVENT
DTSTART;TZID=America/Chicago:20260509T193000
DTEND;TZID=America/Chicago:20260509T200000
DTSTAMP:20260422T054159
CREATED:20260414T173157Z
LAST-MODIFIED:20260414T173157Z
UID:10000294-1778355000-1778356800@bucdays.com
SUMMARY:Red Dragon Pirates
DESCRIPTION:This performance will be at the Community Stage during their scheduled times listed below.
URL:https://bucdays.com/event/red-dragon-pirates-2/2026-05-09/4/
LOCATION:Hilliard Center Exhibit Hall\, 1901 N. Shoreline Blvd\,\, Corpus Christi\, TX\, 78401\, United States
CATEGORIES:Stages
END:VEVENT
BEGIN:VEVENT
DTSTART;TZID=America/Chicago:20260510T123000
DTEND;TZID=America/Chicago:20260510T130000
DTSTAMP:20260422T054159
CREATED:20260414T173157Z
LAST-MODIFIED:20260414T173157Z
UID:10000295-1778416200-1778418000@bucdays.com
SUMMARY:Red Dragon Pirates
DESCRIPTION:This performance will be at the Community Stage during their scheduled times listed below.
URL:https://bucdays.com/event/red-dragon-pirates-2/2026-05-10/1/
LOCATION:Hilliard Center Exhibit Hall\, 1901 N. Shoreline Blvd\,\, Corpus Christi\, TX\, 78401\, United States
CATEGORIES:Stages
END:VEVENT
BEGIN:VEVENT
DTSTART;TZID=America/Chicago:20260510T140000
DTEND;TZID=America/Chicago:20260510T143000
DTSTAMP:20260422T054159
CREATED:20260408T174620Z
LAST-MODIFIED:20260408T174620Z
UID:10000255-1778421600-1778423400@bucdays.com
SUMMARY:SST Cheer/Dance
DESCRIPTION:This performance will be at the Community Stage during their scheduled times listed below.
URL:https://bucdays.com/event/sst-cheer-dance/2026-05-10/
LOCATION:Hilliard Center Exhibit Hall\, 1901 N. Shoreline Blvd\,\, Corpus Christi\, TX\, 78401\, United States
CATEGORIES:Stages
END:VEVENT
BEGIN:VEVENT
DTSTART;TZID=America/Chicago:20260510T153000
DTEND;TZID=America/Chicago:20260510T160000
DTSTAMP:20260422T054159
CREATED:20260414T173157Z
LAST-MODIFIED:20260414T173157Z
UID:10000296-1778427000-1778428800@bucdays.com
SUMMARY:Red Dragon Pirates
DESCRIPTION:This performance will be at the Community Stage during their scheduled times listed below.
URL:https://bucdays.com/event/red-dragon-pirates-2/2026-05-10/2/
LOCATION:Hilliard Center Exhibit Hall\, 1901 N. Shoreline Blvd\,\, Corpus Christi\, TX\, 78401\, United States
CATEGORIES:Stages
END:VEVENT
BEGIN:VEVENT
DTSTART;TZID=America/Chicago:20260510T173000
DTEND;TZID=America/Chicago:20260510T180000
DTSTAMP:20260422T054159
CREATED:20260414T173157Z
LAST-MODIFIED:20260414T173157Z
UID:10000297-1778434200-1778436000@bucdays.com
SUMMARY:Red Dragon Pirates
DESCRIPTION:This performance will be at the Community Stage during their scheduled times listed below.
URL:https://bucdays.com/event/red-dragon-pirates-2/2026-05-10/3/
LOCATION:Hilliard Center Exhibit Hall\, 1901 N. Shoreline Blvd\,\, Corpus Christi\, TX\, 78401\, United States
CATEGORIES:Stages
END:VEVENT
BEGIN:VEVENT
DTSTART;TZID=America/Chicago:20260510T193000
DTEND;TZID=America/Chicago:20260510T200000
DTSTAMP:20260422T054159
CREATED:20260414T173157Z
LAST-MODIFIED:20260414T173157Z
UID:10000298-1778441400-1778443200@bucdays.com
SUMMARY:Red Dragon Pirates
DESCRIPTION:This performance will be at the Community Stage during their scheduled times listed below.
URL:https://bucdays.com/event/red-dragon-pirates-2/2026-05-10/4/
LOCATION:Hilliard Center Exhibit Hall\, 1901 N. Shoreline Blvd\,\, Corpus Christi\, TX\, 78401\, United States
CATEGORIES:Stages
END:VEVENT
END:VCALENDAR