BEGIN:VCALENDAR
VERSION:2.0
PRODID:-//Buc Days - ECPv6.15.20//NONSGML v1.0//EN
CALSCALE:GREGORIAN
METHOD:PUBLISH
X-ORIGINAL-URL:https://bucdays.com
X-WR-CALDESC:Events for Buc Days
REFRESH-INTERVAL;VALUE=DURATION:PT1H
X-Robots-Tag:noindex
X-PUBLISHED-TTL:PT1H
BEGIN:VTIMEZONE
TZID:America/Chicago
BEGIN:DAYLIGHT
TZOFFSETFROM:-0600
TZOFFSETTO:-0500
TZNAME:CDT
DTSTART:20250309T080000
END:DAYLIGHT
BEGIN:STANDARD
TZOFFSETFROM:-0500
TZOFFSETTO:-0600
TZNAME:CST
DTSTART:20251102T070000
END:STANDARD
BEGIN:DAYLIGHT
TZOFFSETFROM:-0600
TZOFFSETTO:-0500
TZNAME:CDT
DTSTART:20260308T080000
END:DAYLIGHT
BEGIN:STANDARD
TZOFFSETFROM:-0500
TZOFFSETTO:-0600
TZNAME:CST
DTSTART:20261101T070000
END:STANDARD
BEGIN:DAYLIGHT
TZOFFSETFROM:-0600
TZOFFSETTO:-0500
TZNAME:CDT
DTSTART:20270314T080000
END:DAYLIGHT
BEGIN:STANDARD
TZOFFSETFROM:-0500
TZOFFSETTO:-0600
TZNAME:CST
DTSTART:20271107T070000
END:STANDARD
END:VTIMEZONE
BEGIN:VEVENT
DTSTART;VALUE=DATE:20260430
DTEND;VALUE=DATE:20260511
DTSTAMP:20260422T164608
CREATED:20260309T193913Z
LAST-MODIFIED:20260331T182010Z
UID:10000032-1777507200-1778457599@bucdays.com
SUMMARY:Shops at Treasure Island presented by Mathews CCAC
DESCRIPTION:With over 76\,000 square feet of exhibit space\, The Shops at Treasure Island are filled with vendors covering a wide range of products and interests. In addition to the shopping\, guests are surrounded by tons of indoor fun—racing pigs\, the petting zoo\, pony and camel rides\, concession areas and more!
URL:https://bucdays.com/event/shops-at-treasure-island-presented-by-mathews-ccac/
LOCATION:Hilliard Center Exhibit Hall\, 1901 N. Shoreline Blvd\,\, Corpus Christi\, TX\, 78401\, United States
CATEGORIES:Shops at Treasure Island
END:VEVENT
BEGIN:VEVENT
DTSTART;TZID=America/Chicago:20260503T083000
DTEND;TZID=America/Chicago:20260503T200000
DTSTAMP:20260422T164608
CREATED:20260119T185753Z
LAST-MODIFIED:20260312T150210Z
UID:10000028-1777797000-1777838400@bucdays.com
SUMMARY:Buc Days VEX University Competition
DESCRIPTION:The Buc Days VEX University Competition provides university students the opportunity to design\, build\, and program advanced robots while fostering skills in engineering\, coding\, and strategy in a highly competitive environment. Hosting a VEXU Competition allows Buc Days to showcase elite collegiate talent\, strengthen the robotics pipeline\, and inspire future innovators through a high-energy\, pirate-themed celebration of STEM.
URL:https://bucdays.com/event/buc-days-vex-university-competition/
LOCATION:Henry Garrett Ballroom\, 1901 N. Shoreline Blvd\,\, Corpus Christi\, TX\, 78401\, United States
CATEGORIES:Robotics
END:VEVENT
BEGIN:VEVENT
DTSTART;TZID=America/Chicago:20260503T123000
DTEND;TZID=America/Chicago:20260503T130000
DTSTAMP:20260422T164608
CREATED:20260408T174403Z
LAST-MODIFIED:20260408T183539Z
UID:10000203-1777811400-1777813200@bucdays.com
SUMMARY:Red Dragon Pirates
DESCRIPTION:This performance will be at the Community Stage during their scheduled times listed below.
URL:https://bucdays.com/event/red-dragon-pirates/2026-05-03/1/
LOCATION:Hilliard Center Exhibit Hall\, 1901 N. Shoreline Blvd\,\, Corpus Christi\, TX\, 78401\, United States
CATEGORIES:Stages
END:VEVENT
BEGIN:VEVENT
DTSTART;TZID=America/Chicago:20260503T123000
DTEND;TZID=America/Chicago:20260503T140000
DTSTAMP:20260422T164608
CREATED:20260421T174141Z
LAST-MODIFIED:20260421T175034Z
UID:10000346-1777811400-1777816800@bucdays.com
SUMMARY:Eli Villarreal
DESCRIPTION:This artist will perform at the Beer & Wine Garden during their scheduled times listed below.
URL:https://bucdays.com/event/eli-villarreal-2/
LOCATION:Buc Days Festival Grounds\, 1901 N Shoreline Blvd\, Corpus Christi\, TX\, 78401\, United States
CATEGORIES:Stages
END:VEVENT
BEGIN:VEVENT
DTSTART;TZID=America/Chicago:20260503T130000
DTEND;TZID=America/Chicago:20260503T133000
DTSTAMP:20260422T164608
CREATED:20260414T181517Z
LAST-MODIFIED:20260414T192551Z
UID:10000312-1777813200-1777815000@bucdays.com
SUMMARY:Racing Pigs - May 3rd
DESCRIPTION:This race is scheduled during the times listed below.
URL:https://bucdays.com/event/pig-races-may-3rd/2026-05-03/1/
LOCATION:Hilliard Center Exhibit Hall\, 1901 N. Shoreline Blvd\,\, Corpus Christi\, TX\, 78401\, United States
CATEGORIES:Shops at Treasure Island
END:VEVENT
BEGIN:VEVENT
DTSTART;TZID=America/Chicago:20260503T133000
DTEND;TZID=America/Chicago:20260503T140000
DTSTAMP:20260422T164608
CREATED:20260408T174620Z
LAST-MODIFIED:20260408T174620Z
UID:10000238-1777815000-1777816800@bucdays.com
SUMMARY:SST Cheer/Dance
DESCRIPTION:This performance will be at the Community Stage during their scheduled times listed below.
URL:https://bucdays.com/event/sst-cheer-dance/2026-05-03/
LOCATION:Hilliard Center Exhibit Hall\, 1901 N. Shoreline Blvd\,\, Corpus Christi\, TX\, 78401\, United States
CATEGORIES:Stages
END:VEVENT
BEGIN:VEVENT
DTSTART;TZID=America/Chicago:20260503T133000
DTEND;TZID=America/Chicago:20260503T150000
DTSTAMP:20260422T164608
CREATED:20260408T153028Z
LAST-MODIFIED:20260408T153124Z
UID:10000082-1777815000-1777820400@bucdays.com
SUMMARY:Trisdon Federic
DESCRIPTION:This artist will perform on the Buckin’ Marlin Stage during their scheduled times listed below.
URL:https://bucdays.com/event/trisdon-federic/2026-05-03/
LOCATION:Buc Days Festival Grounds\, 1901 N Shoreline Blvd\, Corpus Christi\, TX\, 78401\, United States
CATEGORIES:Stages
END:VEVENT
BEGIN:VEVENT
DTSTART;TZID=America/Chicago:20260503T140000
DTEND;TZID=America/Chicago:20260503T143000
DTSTAMP:20260422T164608
CREATED:20260408T174656Z
LAST-MODIFIED:20260408T174656Z
UID:10000239-1777816800-1777818600@bucdays.com
SUMMARY:YAPP 361 Dance Studio
DESCRIPTION:This performance will be at the Community Stage during their scheduled time listed below.
URL:https://bucdays.com/event/yapp-361-dance-studio/
LOCATION:Hilliard Center Exhibit Hall\, 1901 N. Shoreline Blvd\,\, Corpus Christi\, TX\, 78401\, United States
CATEGORIES:Stages
END:VEVENT
BEGIN:VEVENT
DTSTART;TZID=America/Chicago:20260503T143000
DTEND;TZID=America/Chicago:20260503T160000
DTSTAMP:20260422T164608
CREATED:20260317T175502Z
LAST-MODIFIED:20260408T155610Z
UID:10000259-1777818600-1777824000@bucdays.com
SUMMARY:Eric Graham
DESCRIPTION:This artist will perform at the Beer & Wine Garden during their scheduled times listed below.
URL:https://bucdays.com/event/eric-graham/2026-05-03/
LOCATION:Buc Days Festival Grounds\, 1901 N Shoreline Blvd\, Corpus Christi\, TX\, 78401\, United States
CATEGORIES:Stages
END:VEVENT
BEGIN:VEVENT
DTSTART;TZID=America/Chicago:20260503T150000
DTEND;TZID=America/Chicago:20260503T153000
DTSTAMP:20260422T164608
CREATED:20260414T181517Z
LAST-MODIFIED:20260414T192551Z
UID:10000313-1777820400-1777822200@bucdays.com
SUMMARY:Racing Pigs - May 3rd
DESCRIPTION:This race is scheduled during the times listed below.
URL:https://bucdays.com/event/pig-races-may-3rd/2026-05-03/2/
LOCATION:Hilliard Center Exhibit Hall\, 1901 N. Shoreline Blvd\,\, Corpus Christi\, TX\, 78401\, United States
CATEGORIES:Shops at Treasure Island
END:VEVENT
BEGIN:VEVENT
DTSTART;TZID=America/Chicago:20260503T153000
DTEND;TZID=America/Chicago:20260503T160000
DTSTAMP:20260422T164608
CREATED:20260408T174403Z
LAST-MODIFIED:20260408T183539Z
UID:10000204-1777822200-1777824000@bucdays.com
SUMMARY:Red Dragon Pirates
DESCRIPTION:This performance will be at the Community Stage during their scheduled times listed below.
URL:https://bucdays.com/event/red-dragon-pirates/2026-05-03/2/
LOCATION:Hilliard Center Exhibit Hall\, 1901 N. Shoreline Blvd\,\, Corpus Christi\, TX\, 78401\, United States
CATEGORIES:Stages
END:VEVENT
BEGIN:VEVENT
DTSTART;TZID=America/Chicago:20260503T154500
DTEND;TZID=America/Chicago:20260503T171500
DTSTAMP:20260422T164608
CREATED:20260408T153150Z
LAST-MODIFIED:20260408T153150Z
UID:10000085-1777823100-1777828500@bucdays.com
SUMMARY:John Cortez Band
DESCRIPTION:This band will perform on the Buckin’ Marlin Stage during their scheduled time listed below.
URL:https://bucdays.com/event/john-cortez-band/
LOCATION:Buc Days Festival Grounds\, 1901 N Shoreline Blvd\, Corpus Christi\, TX\, 78401\, United States
CATEGORIES:Stages
END:VEVENT
BEGIN:VEVENT
DTSTART;TZID=America/Chicago:20260503T160000
DTEND;TZID=America/Chicago:20260503T163000
DTSTAMP:20260422T164608
CREATED:20260408T174726Z
LAST-MODIFIED:20260408T174726Z
UID:10000241-1777824000-1777825800@bucdays.com
SUMMARY:Premier Martial Arts Demo Team
DESCRIPTION:This performance will be at the Community Stage during their scheduled times listed below.
URL:https://bucdays.com/event/premier-martial-arts-demo-team/2026-05-03/
LOCATION:Hilliard Center Exhibit Hall\, 1901 N. Shoreline Blvd\,\, Corpus Christi\, TX\, 78401\, United States
CATEGORIES:Stages
END:VEVENT
BEGIN:VEVENT
DTSTART;TZID=America/Chicago:20260503T163000
DTEND;TZID=America/Chicago:20260503T170000
DTSTAMP:20260422T164608
CREATED:20260408T174742Z
LAST-MODIFIED:20260408T174742Z
UID:10000242-1777825800-1777827600@bucdays.com
SUMMARY:West Oso JR High Dazzlettes
DESCRIPTION:This performance will be at the Community Stage during their scheduled times listed below.
URL:https://bucdays.com/event/west-oso-jr-high-dazzlettes/2026-05-03/
LOCATION:Hilliard Center Exhibit Hall\, 1901 N. Shoreline Blvd\,\, Corpus Christi\, TX\, 78401\, United States
CATEGORIES:Stages
END:VEVENT
BEGIN:VEVENT
DTSTART;TZID=America/Chicago:20260503T163000
DTEND;TZID=America/Chicago:20260503T180000
DTSTAMP:20260422T164608
CREATED:20260408T155751Z
LAST-MODIFIED:20260408T155751Z
UID:10000117-1777825800-1777831200@bucdays.com
SUMMARY:3rd Coast Duo
DESCRIPTION:This band will perform at the Beer & Wine Garden during their scheduled time listed below.
URL:https://bucdays.com/event/3rd-coast-duo/
LOCATION:Buc Days Festival Grounds\, 1901 N Shoreline Blvd\, Corpus Christi\, TX\, 78401\, United States
CATEGORIES:Stages
END:VEVENT
BEGIN:VEVENT
DTSTART;TZID=America/Chicago:20260503T170000
DTEND;TZID=America/Chicago:20260503T173000
DTSTAMP:20260422T164608
CREATED:20260414T181517Z
LAST-MODIFIED:20260414T192551Z
UID:10000314-1777827600-1777829400@bucdays.com
SUMMARY:Racing Pigs - May 3rd
DESCRIPTION:This race is scheduled during the times listed below.
URL:https://bucdays.com/event/pig-races-may-3rd/2026-05-03/3/
LOCATION:Hilliard Center Exhibit Hall\, 1901 N. Shoreline Blvd\,\, Corpus Christi\, TX\, 78401\, United States
CATEGORIES:Shops at Treasure Island
END:VEVENT
BEGIN:VEVENT
DTSTART;TZID=America/Chicago:20260503T173000
DTEND;TZID=America/Chicago:20260503T180000
DTSTAMP:20260422T164608
CREATED:20260408T174403Z
LAST-MODIFIED:20260408T183539Z
UID:10000205-1777829400-1777831200@bucdays.com
SUMMARY:Red Dragon Pirates
DESCRIPTION:This performance will be at the Community Stage during their scheduled times listed below.
URL:https://bucdays.com/event/red-dragon-pirates/2026-05-03/3/
LOCATION:Hilliard Center Exhibit Hall\, 1901 N. Shoreline Blvd\,\, Corpus Christi\, TX\, 78401\, United States
CATEGORIES:Stages
END:VEVENT
BEGIN:VEVENT
DTSTART;TZID=America/Chicago:20260503T180000
DTEND;TZID=America/Chicago:20260503T193000
DTSTAMP:20260422T164608
CREATED:20260408T153202Z
LAST-MODIFIED:20260408T153202Z
UID:10000256-1777831200-1777836600@bucdays.com
SUMMARY:Los Mavericks
DESCRIPTION:This band will perform on the Buckin’ Marlin Stage during their scheduled time listed below.
URL:https://bucdays.com/event/los-mavericks/
LOCATION:Buc Days Festival Grounds\, 1901 N Shoreline Blvd\, Corpus Christi\, TX\, 78401\, United States
CATEGORIES:Stages
END:VEVENT
BEGIN:VEVENT
DTSTART;TZID=America/Chicago:20260503T183000
DTEND;TZID=America/Chicago:20260503T200000
DTSTAMP:20260422T164608
CREATED:20260408T155808Z
LAST-MODIFIED:20260408T155808Z
UID:10000118-1777833000-1777838400@bucdays.com
SUMMARY:Brad Brown-Duo
DESCRIPTION:This band will perform at the Beer & Wine Garden during their scheduled time listed below.
URL:https://bucdays.com/event/brad-brown-duo/
LOCATION:Buc Days Festival Grounds\, 1901 N Shoreline Blvd\, Corpus Christi\, TX\, 78401\, United States
CATEGORIES:Stages
END:VEVENT
BEGIN:VEVENT
DTSTART;TZID=America/Chicago:20260503T190000
DTEND;TZID=America/Chicago:20260503T193000
DTSTAMP:20260422T164608
CREATED:20260414T181517Z
LAST-MODIFIED:20260414T192551Z
UID:10000315-1777834800-1777836600@bucdays.com
SUMMARY:Racing Pigs - May 3rd
DESCRIPTION:This race is scheduled during the times listed below.
URL:https://bucdays.com/event/pig-races-may-3rd/2026-05-03/4/
LOCATION:Hilliard Center Exhibit Hall\, 1901 N. Shoreline Blvd\,\, Corpus Christi\, TX\, 78401\, United States
CATEGORIES:Shops at Treasure Island
END:VEVENT
BEGIN:VEVENT
DTSTART;TZID=America/Chicago:20260503T193000
DTEND;TZID=America/Chicago:20260503T200000
DTSTAMP:20260422T164608
CREATED:20260408T174403Z
LAST-MODIFIED:20260408T183539Z
UID:10000206-1777836600-1777838400@bucdays.com
SUMMARY:Red Dragon Pirates
DESCRIPTION:This performance will be at the Community Stage during their scheduled times listed below.
URL:https://bucdays.com/event/red-dragon-pirates/2026-05-03/4/
LOCATION:Hilliard Center Exhibit Hall\, 1901 N. Shoreline Blvd\,\, Corpus Christi\, TX\, 78401\, United States
CATEGORIES:Stages
END:VEVENT
BEGIN:VEVENT
DTSTART;TZID=America/Chicago:20260503T200000
DTEND;TZID=America/Chicago:20260503T213000
DTSTAMP:20260422T164608
CREATED:20260408T153223Z
LAST-MODIFIED:20260408T153223Z
UID:10000087-1777838400-1777843800@bucdays.com
SUMMARY:The East & The Crow
DESCRIPTION:This band will perform on the Buckin’ Marlin Stage during their scheduled times listed below.
URL:https://bucdays.com/event/the-east-the-crow/2026-05-03/
LOCATION:Buc Days Festival Grounds\, 1901 N Shoreline Blvd\, Corpus Christi\, TX\, 78401\, United States
CATEGORIES:Stages
END:VEVENT
BEGIN:VEVENT
DTSTART;TZID=America/Chicago:20260503T203000
DTEND;TZID=America/Chicago:20260503T210000
DTSTAMP:20260422T164608
CREATED:20260414T181517Z
LAST-MODIFIED:20260414T192551Z
UID:10000316-1777840200-1777842000@bucdays.com
SUMMARY:Racing Pigs - May 3rd
DESCRIPTION:This race is scheduled during the times listed below.
URL:https://bucdays.com/event/pig-races-may-3rd/2026-05-03/5/
LOCATION:Hilliard Center Exhibit Hall\, 1901 N. Shoreline Blvd\,\, Corpus Christi\, TX\, 78401\, United States
CATEGORIES:Shops at Treasure Island
END:VEVENT
BEGIN:VEVENT
DTSTART;TZID=America/Chicago:20260504T170000
DTEND;TZID=America/Chicago:20260504T173000
DTSTAMP:20260422T164608
CREATED:20260408T174753Z
LAST-MODIFIED:20260408T174753Z
UID:10000243-1777914000-1777915800@bucdays.com
SUMMARY:Shining Shamrocks
DESCRIPTION:This performance will be at the Community Stage during their scheduled time listed below.
URL:https://bucdays.com/event/shining-shamrocks/
LOCATION:Hilliard Center Exhibit Hall\, 1901 N. Shoreline Blvd\,\, Corpus Christi\, TX\, 78401\, United States
CATEGORIES:Stages
END:VEVENT
BEGIN:VEVENT
DTSTART;TZID=America/Chicago:20260504T173000
DTEND;TZID=America/Chicago:20260504T180000
DTSTAMP:20260422T164608
CREATED:20260414T181829Z
LAST-MODIFIED:20260414T192500Z
UID:10000317-1777915800-1777917600@bucdays.com
SUMMARY:Racing Pigs - May 4th
DESCRIPTION:This race is scheduled during the times listed below.
URL:https://bucdays.com/event/pig-races-may-4th/2026-05-04/1/
LOCATION:Hilliard Center Exhibit Hall\, 1901 N. Shoreline Blvd\,\, Corpus Christi\, TX\, 78401\, United States
CATEGORIES:Shops at Treasure Island
END:VEVENT
BEGIN:VEVENT
DTSTART;TZID=America/Chicago:20260504T180000
DTEND;TZID=America/Chicago:20260504T183000
DTSTAMP:20260422T164608
CREATED:20260408T174403Z
LAST-MODIFIED:20260408T183539Z
UID:10000207-1777917600-1777919400@bucdays.com
SUMMARY:Red Dragon Pirates
DESCRIPTION:This performance will be at the Community Stage during their scheduled times listed below.
URL:https://bucdays.com/event/red-dragon-pirates/2026-05-04/1/
LOCATION:Hilliard Center Exhibit Hall\, 1901 N. Shoreline Blvd\,\, Corpus Christi\, TX\, 78401\, United States
CATEGORIES:Stages
END:VEVENT
BEGIN:VEVENT
DTSTART;TZID=America/Chicago:20260504T180000
DTEND;TZID=America/Chicago:20260504T193000
DTSTAMP:20260422T164608
CREATED:20260408T153235Z
LAST-MODIFIED:20260408T153235Z
UID:10000089-1777917600-1777923000@bucdays.com
SUMMARY:Alley Catz
DESCRIPTION:This band will perform on the Buckin’ Marlin Stage during their scheduled time listed below.
URL:https://bucdays.com/event/alley-catz/
LOCATION:Buc Days Festival Grounds\, 1901 N Shoreline Blvd\, Corpus Christi\, TX\, 78401\, United States
CATEGORIES:Stages
END:VEVENT
BEGIN:VEVENT
DTSTART;TZID=America/Chicago:20260504T180000
DTEND;TZID=America/Chicago:20260504T193000
DTSTAMP:20260422T164608
CREATED:20260408T155852Z
LAST-MODIFIED:20260408T155852Z
UID:10000227-1777917600-1777923000@bucdays.com
SUMMARY:David Martinez
DESCRIPTION:This artist will perform at the Beer & Wine Garden during their scheduled times listed below.
URL:https://bucdays.com/event/david-martinez/2026-05-04/
LOCATION:Buc Days Festival Grounds\, 1901 N Shoreline Blvd\, Corpus Christi\, TX\, 78401\, United States
CATEGORIES:Stages
END:VEVENT
BEGIN:VEVENT
DTSTART;TZID=America/Chicago:20260504T183000
DTEND;TZID=America/Chicago:20260504T190000
DTSTAMP:20260422T164608
CREATED:20260414T181829Z
LAST-MODIFIED:20260414T192500Z
UID:10000318-1777919400-1777921200@bucdays.com
SUMMARY:Racing Pigs - May 4th
DESCRIPTION:This race is scheduled during the times listed below.
URL:https://bucdays.com/event/pig-races-may-4th/2026-05-04/2/
LOCATION:Hilliard Center Exhibit Hall\, 1901 N. Shoreline Blvd\,\, Corpus Christi\, TX\, 78401\, United States
CATEGORIES:Shops at Treasure Island
END:VEVENT
BEGIN:VEVENT
DTSTART;TZID=America/Chicago:20260504T190000
DTEND;TZID=America/Chicago:20260504T193000
DTSTAMP:20260422T164608
CREATED:20260408T174403Z
LAST-MODIFIED:20260408T183539Z
UID:10000208-1777921200-1777923000@bucdays.com
SUMMARY:Red Dragon Pirates
DESCRIPTION:This performance will be at the Community Stage during their scheduled times listed below.
URL:https://bucdays.com/event/red-dragon-pirates/2026-05-04/2/
LOCATION:Hilliard Center Exhibit Hall\, 1901 N. Shoreline Blvd\,\, Corpus Christi\, TX\, 78401\, United States
CATEGORIES:Stages
END:VEVENT
END:VCALENDAR