BEGIN:VCALENDAR
VERSION:2.0
PRODID:-//Buc Days - ECPv6.15.20//NONSGML v1.0//EN
CALSCALE:GREGORIAN
METHOD:PUBLISH
X-WR-CALNAME:Buc Days
X-ORIGINAL-URL:https://bucdays.com
X-WR-CALDESC:Events for Buc Days
REFRESH-INTERVAL;VALUE=DURATION:PT1H
X-Robots-Tag:noindex
X-PUBLISHED-TTL:PT1H
BEGIN:VTIMEZONE
TZID:America/Chicago
BEGIN:DAYLIGHT
TZOFFSETFROM:-0600
TZOFFSETTO:-0500
TZNAME:CDT
DTSTART:20250309T080000
END:DAYLIGHT
BEGIN:STANDARD
TZOFFSETFROM:-0500
TZOFFSETTO:-0600
TZNAME:CST
DTSTART:20251102T070000
END:STANDARD
BEGIN:DAYLIGHT
TZOFFSETFROM:-0600
TZOFFSETTO:-0500
TZNAME:CDT
DTSTART:20260308T080000
END:DAYLIGHT
BEGIN:STANDARD
TZOFFSETFROM:-0500
TZOFFSETTO:-0600
TZNAME:CST
DTSTART:20261101T070000
END:STANDARD
BEGIN:DAYLIGHT
TZOFFSETFROM:-0600
TZOFFSETTO:-0500
TZNAME:CDT
DTSTART:20270314T080000
END:DAYLIGHT
BEGIN:STANDARD
TZOFFSETFROM:-0500
TZOFFSETTO:-0600
TZNAME:CST
DTSTART:20271107T070000
END:STANDARD
END:VTIMEZONE
BEGIN:VEVENT
DTSTART;TZID=America/Chicago:20260418T090000
DTEND;TZID=America/Chicago:20260418T170000
DTSTAMP:20260423T052030
CREATED:20260119T215541Z
LAST-MODIFIED:20260311T200916Z
UID:10000007-1776502800-1776531600@bucdays.com
SUMMARY:Buc Days 5K
DESCRIPTION:Sweat\, smile\, and run 3.1 miles at Buc Days! The event will start and end at 5th and Elm St. in Portland\, Texas.
URL:https://bucdays.com/event/buc-days-5k/
LOCATION:5th & Elm\, 201 5th St\, Portland\, TX\, 78374\, United States
END:VEVENT
BEGIN:VEVENT
DTSTART;VALUE=DATE:20260418
DTEND;VALUE=DATE:20260419
DTSTAMP:20260423T052030
CREATED:20260311T182504Z
LAST-MODIFIED:20260312T181122Z
UID:10000043-1776470400-1776556799@bucdays.com
SUMMARY:Sunrise Stampede
DESCRIPTION:Kick off Buc Days at the Sunrise Stampede\, presented by ArcelorMittal! Join us in Portland for the Buc Days 5K\, the Driscoll Children’s Parade\, and a morning of free family fun at Fifth & Elm. Enjoy a cowboy breakfast\, live music\, games\, face painting\, and more. Whether you run\, parade\, or cheer\, it’s a new way for the Coastal Bend to celebrate together!
URL:https://bucdays.com/event/sunrise-stampede/
LOCATION:5th & Elm\, 201 5th St\, Portland\, TX\, 78374\, United States
CATEGORIES:Parades
END:VEVENT
BEGIN:VEVENT
DTSTART;TZID=America/Chicago:20260221T073000
DTEND;TZID=America/Chicago:20260222T130000
DTSTAMP:20260423T052030
CREATED:20260106T194039Z
LAST-MODIFIED:20260106T194039Z
UID:10000023-1771659000-1771765200@bucdays.com
SUMMARY:Buc Days 4-H Clays Shoot
DESCRIPTION:The Buc Days Clays 4-H Shoot will take place on February 21-22\, 2026\, at the Corpus Christi Gun Club\, featuring $35\,000 in cash prizes and scholarships.
URL:https://bucdays.com/event/buc-days-4-h-clays-shoot/
LOCATION:TX
END:VEVENT
END:VCALENDAR